BEGIN:VCALENDAR
VERSION:2.0
PRODID:-//wp-events-plugin.com//7.2.3.1//EN
BEGIN:VEVENT
UID:3@sio-fortbildung.de
DTSTART:20260527T220000Z
DTEND:20260529T220000Z
DTSTAMP:20260422T132522Z
URL:https://sio-fortbildung.de/events/modul-2-ccd/
SUMMARY:Modul 2 (CCD)
DESCRIPTION:\nCCD – Cranio-cervikale Dysfunktionen\n\n\n\n 	Anatomie der 
 hochzervikalen Region\n 	Biomechanik der Funktionseinheit Kopfgelenke\n 	D
 ifferenzialdiagnostik und Sicherheitstests\n 	Okulomotorische Untersuchung
  und Behandlung\n 	Untersuchung und Behandlung der Schädelbasis (SSB)\n\n
LOCATION:Medizinisches Fortbildungszentrum Hagen GmbH\, Hohle Straße 6c\, 
 Hagen\, 58091\, Deutschland
X-APPLE-STRUCTURED-LOCATION;VALUE=URI;X-ADDRESS=Hohle Straße 6c\, Hagen\, 
 58091\, Deutschland;X-APPLE-RADIUS=100;X-TITLE=Medizinisches Fortbildungsz
 entrum Hagen GmbH:geo:0,0
END:VEVENT
BEGIN:VEVENT
UID:4@sio-fortbildung.de
DTSTART;VALUE=DATE:20260604
DTEND;VALUE=DATE:20260607
DTSTAMP:20260422T133416Z
URL:https://sio-fortbildung.de/events/modul-2-ccd-2/
SUMMARY:Modul 2 (CCD)
DESCRIPTION:\n\nCCD – Cranio-cervikale Dysfunktionen\n\n\n\n 	Anatomie de
 r hochzervikalen Region\n 	Biomechanik der Funktionseinheit Kopfgelenke\n 
 	Differenzialdiagnostik und Sicherheitstests\n 	Okulomotorische Untersuchu
 ng und Behandlung\n 	Untersuchung und Behandlung der Schädelbasis (SSB)\n
 \n
LOCATION:AFG Akademie\, Walter-Krause-Str. 11 \, Mannheim\, 68163\, Deutsch
 land
X-APPLE-STRUCTURED-LOCATION;VALUE=URI;X-ADDRESS=Walter-Krause-Str. 11 \, Ma
 nnheim\, 68163\, Deutschland;X-APPLE-RADIUS=100;X-TITLE=AFG Akademie:geo:0
 ,0
END:VEVENT
END:VCALENDAR